BEGIN:VCALENDAR
VERSION:2.0
PRODID:-//wp-events-plugin.com//6.6.4.4//EN
TZID:Asia/Jerusalem
X-WR-TIMEZONE:Asia/Jerusalem
BEGIN:VEVENT
UID:737@biotech.technion.ac.il
DTSTART;TZID=Asia/Jerusalem:20180321T160000
DTEND;TZID=Asia/Jerusalem:20220202T164952
DTSTAMP:20220512T124723Z
URL:https://biotech.technion.ac.il/events/high-resolution-qtl-mapping-in-s
 -cerevisiae-using-an-integrative-genomics-approach-2/
SUMMARY:High Resolution QTL Mapping in S. cerevisiae Using an Integrative G
 enomics Approach
DESCRIPTION:High Resolution QTL Mapping in S. cerevisiae Using an Integrati
 ve Genomics Approach
END:VEVENT
BEGIN:VTIMEZONE
TZID:Asia/Jerusalem
X-LIC-LOCATION:Asia/Jerusalem
BEGIN:STANDARD
DTSTART:20171029T010000
TZOFFSETFROM:+0300
TZOFFSETTO:+0200
TZNAME:IST
END:STANDARD
BEGIN:DAYLIGHT
DTSTART:20180323T030000
TZOFFSETFROM:+0200
TZOFFSETTO:+0300
TZNAME:IDT
END:DAYLIGHT
BEGIN:STANDARD
DTSTART:20181028T010000
TZOFFSETFROM:+0300
TZOFFSETTO:+0200
TZNAME:IST
END:STANDARD
BEGIN:DAYLIGHT
DTSTART:20190329T030000
TZOFFSETFROM:+0200
TZOFFSETTO:+0300
TZNAME:IDT
END:DAYLIGHT
BEGIN:STANDARD
DTSTART:20191027T010000
TZOFFSETFROM:+0300
TZOFFSETTO:+0200
TZNAME:IST
END:STANDARD
BEGIN:DAYLIGHT
DTSTART:20200327T030000
TZOFFSETFROM:+0200
TZOFFSETTO:+0300
TZNAME:IDT
END:DAYLIGHT
BEGIN:STANDARD
DTSTART:20201025T010000
TZOFFSETFROM:+0300
TZOFFSETTO:+0200
TZNAME:IST
END:STANDARD
BEGIN:DAYLIGHT
DTSTART:20210326T030000
TZOFFSETFROM:+0200
TZOFFSETTO:+0300
TZNAME:IDT
END:DAYLIGHT
BEGIN:STANDARD
DTSTART:20211031T010000
TZOFFSETFROM:+0300
TZOFFSETTO:+0200
TZNAME:IST
END:STANDARD
END:VTIMEZONE
END:VCALENDAR