BEGIN:VCALENDAR
VERSION:2.0
PRODID:-//wp-events-plugin.com//6.6.4.4//EN
TZID:Asia/Jerusalem
X-WR-TIMEZONE:Asia/Jerusalem
BEGIN:VEVENT
UID:1099@biotech.technion.ac.il
DTSTART;TZID=Asia/Jerusalem:20220203T164500
DTEND;TZID=Asia/Jerusalem:20220203T164500
DTSTAMP:20230403T075713Z
URL:https://biotech.technion.ac.il/events/the-proffessional-carrer-unit-ia
 este-offer-a-carrer-fair/
SUMMARY:The Proffessional Carrer Unit& IAESTE offer  a Carrer Fair 
DESCRIPTION:The Proffessional Carrer Unit&amp\; IAESTE offer  a Carrer Fai
 r  on the 25/04/18 at 10:00 am.\nCareer fairs  provide a networking oppo
 rtunity for students and alumni\, and companies representing Israeli manuf
 acturing and development industries to recruit new engineers and scientist
 s.\n\nFor more information click here
CATEGORIES:אירועים
END:VEVENT
BEGIN:VTIMEZONE
TZID:Asia/Jerusalem
X-LIC-LOCATION:Asia/Jerusalem
BEGIN:STANDARD
DTSTART:20211031T010000
TZOFFSETFROM:+0300
TZOFFSETTO:+0200
TZNAME:IST
END:STANDARD
END:VTIMEZONE
END:VCALENDAR